View In:
ArcGIS JavaScript
ArcGIS Online map viewer
Google Earth
ArcMap
View Footprint In:
ArcGIS Online map viewer
Service Description: Countywide digital orthophoto image. True color compressed MrSid (Multiresolution Seamless Image Database) file, one square foot per pixel, accurate at a 1:2400 scale.
Name: Imagery/Frederick_Ortho_2000
Description: Countywide digital orthophoto image. True color compressed MrSid (Multiresolution Seamless Image Database) file, one square foot per pixel, accurate at a 1:2400 scale.
Single Fused Map Cache: false
Extent:
XMin: 1120000
YMin: 566000
XMax: 1288000
YMax: 750000
Spatial Reference:
102685
(2248)
Initial Extent:
XMin: 1120000
YMin: 566000
XMax: 1288000
YMax: 750000
Spatial Reference:
102685
(2248)
Full Extent:
XMin: 1120000
YMin: 566000
XMax: 1288000
YMax: 750000
Spatial Reference:
102685
(2248)
Pixel Size X: 1.0
Pixel Size Y: 1.0
Band Count: 3
Pixel Type: U8
RasterFunction Infos: N/A
Mensuration Capabilities: Basic
Has Histograms: true
Has Colormap: false
Has Multi Dimensions : false
Rendering Rule:
Min Scale: 0
Max Scale: 0
Copyright Text:
Service Data Type: esriImageServiceDataTypeRGB
Min Values: 0, 0, 0
Max Values: 255, 255, 255
Mean Values: 161.98411682990425, 161.37884121092134, 158.43167266895273
Standard Deviation Values: 74.2337615441707, 72.55831141907593, 73.22785417354275
Object ID Field:
Fields:
None
Default Mosaic Method: Center
Allowed Mosaic Methods:
SortField:
SortValue: null
Mosaic Operator: First
Default Compression Quality: 75
Default Resampling Method: Bilinear
Max Record Count: null
Max Image Height: 4100
Max Image Width: 15000
Max Download Image Count: null
Max Mosaic Image Count: null
Allow Raster Function: true
Allow Compute TiePoints: false
Supports Statistics: false
Supports Advanced Queries: false
Use StandardizedQueries: true
Raster Type Infos:
Name: Raster Dataset
Description: Supports all ArcGIS Raster Datasets
Help:
Has Raster Attribute Table: false
Edit Fields Info: null
Ownership Based AccessControl For Rasters: null
Child Resources:
Info
Histograms
Key Properties
Legend
MultiDimensionalInfo
rasterFunctionInfos
Supported Operations:
Export Image
Identify
Measure
Compute Histograms
Compute Statistics Histograms
Get Samples
Compute Class Statistics