{
 "currentVersion": 10.41,
 "serviceDescription": "Countywide digital orthophoto image. True color compressed MrSid (Multiresolution Seamless Image Database) file, one square foot per pixel, accurate at a 1:2400 scale.",
 "name": "Imagery/Frederick_Ortho_2000",
 "description": "Countywide digital orthophoto image. True color compressed MrSid (Multiresolution Seamless Image Database) file, one square foot per pixel, accurate at a 1:2400 scale.",
 "extent": {
  "xmin": 1120000,
  "ymin": 566000,
  "xmax": 1288000,
  "ymax": 750000,
  "spatialReference": {
   "wkid": 102685,
   "latestWkid": 2248
  }
 },
 "initialExtent": {
  "xmin": 1120000,
  "ymin": 566000,
  "xmax": 1288000,
  "ymax": 750000,
  "spatialReference": {
   "wkid": 102685,
   "latestWkid": 2248
  }
 },
 "fullExtent": {
  "xmin": 1120000,
  "ymin": 566000,
  "xmax": 1288000,
  "ymax": 750000,
  "spatialReference": {
   "wkid": 102685,
   "latestWkid": 2248
  }
 },
 "pixelSizeX": 1,
 "pixelSizeY": 1,
 "bandCount": 3,
 "pixelType": "U8",
 "minPixelSize": 0,
 "maxPixelSize": 0,
 "copyrightText": "",
 "serviceDataType": "esriImageServiceDataTypeRGB",
 "minValues": [
  0,
  0,
  0
 ],
 "maxValues": [
  255,
  255,
  255
 ],
 "meanValues": [
  161.98411682990425,
  161.37884121092134,
  158.43167266895273
 ],
 "stdvValues": [
  74.2337615441707,
  72.55831141907593,
  73.22785417354275
 ],
 "objectIdField": "",
 "fields": [],
 "capabilities": "Image,Metadata,Mensuration",
 "defaultMosaicMethod": "Center",
 "allowedMosaicMethods": "",
 "sortField": "",
 "sortValue": null,
 "mosaicOperator": "First",
 "defaultCompressionQuality": 75,
 "defaultResamplingMethod": "Bilinear",
 "maxImageHeight": 4100,
 "maxImageWidth": 15000,
 "allowRasterFunction": true,
 "rasterFunctionInfos": [],
 "rasterTypeInfos": [
  {
   "name": "Raster Dataset",
   "description": "Supports all ArcGIS Raster Datasets",
   "help": ""
  }
 ],
 "mensurationCapabilities": "Basic",
 "hasHistograms": true,
 "hasColormap": false,
 "hasRasterAttributeTable": false,
 "minScale": 0,
 "maxScale": 0,
 "exportTilesAllowed": false,
 "hasMultidimensions": false,
 "supportsStatistics": false,
 "supportsAdvancedQueries": false,
 "editFieldsInfo": null,
 "ownershipBasedAccessControlForRasters": null,
 "allowComputeTiePoints": false,
 "useStandardizedQueries": true,
 "advancedQueryCapabilities": {
  "useStandardizedQueries": true,
  "supportsStatistics": false,
  "supportsOrderBy": false,
  "supportsDistinct": false,
  "supportsPagination": false
 },
 "spatialReference": {
  "wkid": 102685,
  "latestWkid": 2248
 }
}
