View In:
ArcGIS JavaScript
ArcGIS Online map viewer
Google Earth
ArcMap
View Footprint In:
ArcGIS Online map viewer
Service Description: Imagery/Frederick_Ortho_2011
Name: Imagery/Frederick_Ortho_2011
Description: Imagery/Frederick_Ortho_2011
Single Fused Map Cache: false
Extent:
XMin: 1118006.5
YMin: 566601
XMax: 1282945
YMax: 751468
Spatial Reference:
102685
(2248)
Initial Extent:
XMin: 1118006.5
YMin: 566601
XMax: 1282945
YMax: 751468
Spatial Reference:
102685
(2248)
Full Extent:
XMin: 1118006.5
YMin: 566601
XMax: 1282945
YMax: 751468
Spatial Reference:
102685
(2248)
Pixel Size X: 0.5
Pixel Size Y: 0.5
Band Count: 3
Pixel Type: U8
RasterFunction Infos: N/A
Mensuration Capabilities: None
Has Histograms: true
Has Colormap: false
Has Multi Dimensions : false
Rendering Rule:
Min Scale: 0
Max Scale: 0
Copyright Text:
Service Data Type: esriImageServiceDataTypeRGB
Min Values: 0, 0, 0
Max Values: 255, 255, 255
Mean Values: 137.4399740763596, 119.07515493656385, 76.41670628043002
Standard Deviation Values: 31.42113098076768, 28.325582429168527, 22.260272125756227
Object ID Field: OBJECTID
Fields:
-
OBJECTID
(
type: esriFieldTypeOID
,
alias: OBJECTID
)
-
Name
(
type: esriFieldTypeString
,
alias: Name
,
length: 50
)
-
MinPS
(
type: esriFieldTypeDouble
,
alias: MinPS
)
-
MaxPS
(
type: esriFieldTypeDouble
,
alias: MaxPS
)
-
LowPS
(
type: esriFieldTypeDouble
,
alias: LowPS
)
-
HighPS
(
type: esriFieldTypeDouble
,
alias: HighPS
)
-
Category
(
type: esriFieldTypeInteger
,
alias: Category
,
Coded Values:
[0: Unknown]
,
[1: Primary]
,
[2: Overview]
, ...5 more...
)
-
Tag
(
type: esriFieldTypeString
,
alias: Tag
,
length: 20
)
-
GroupName
(
type: esriFieldTypeString
,
alias: GroupName
,
length: 50
)
-
ProductName
(
type: esriFieldTypeString
,
alias: ProductName
,
length: 50
)
-
CenterX
(
type: esriFieldTypeDouble
,
alias: CenterX
)
-
CenterY
(
type: esriFieldTypeDouble
,
alias: CenterY
)
-
ZOrder
(
type: esriFieldTypeInteger
,
alias: ZOrder
)
-
Shape
(
type: esriFieldTypeGeometry
,
alias: Shape
)
-
Shape.STArea()
(
type: esriFieldTypeDouble
,
alias: Shape.STArea()
)
-
Shape.STLength()
(
type: esriFieldTypeDouble
,
alias: Shape.STLength()
)
Default Mosaic Method: Northwest
Allowed Mosaic Methods: NorthWest,Center,LockRaster,ByAttribute,Nadir,Viewpoint,Seamline,None
SortField:
SortValue: null
Mosaic Operator: First
Default Compression Quality: 75
Default Resampling Method: Bilinear
Max Record Count: 1000
Max Image Height: 4100
Max Image Width: 15000
Max Download Image Count: 20
Max Mosaic Image Count: 20
Allow Raster Function: true
Allow Compute TiePoints: false
Supports Statistics: true
Supports Advanced Queries: true
Use StandardizedQueries: true
Raster Type Infos:
Name: Raster Dataset
Description: Supports all ArcGIS Raster Datasets
Help:
Has Raster Attribute Table: false
Edit Fields Info: null
Ownership Based AccessControl For Rasters: null
Child Resources:
Info
Histograms
Key Properties
Legend
MultiDimensionalInfo
rasterFunctionInfos
Supported Operations:
Export Image
Query
Identify
Compute Histograms
Compute Statistics Histograms
Get Samples
Compute Class Statistics