{
 "currentVersion": 10.41,
 "serviceDescription": "1965 State of Maryland Paper Tax Assessment Maps.",
 "name": "Imagery/MD_PropertyView_Taxmaps_1965",
 "description": "1965 State of Maryland Paper Tax Assessment Maps.",
 "extent": {
  "xmin": 1112810.2455568197,
  "ymin": 564435.8224152116,
  "xmax": 1295692.577545337,
  "ymax": 757275.2615185749,
  "spatialReference": {
   "wkt": "PROJCS[\"NAD_1983_StatePlane_Maryland_FIPS_1900\",GEOGCS[\"GCS_North_American_1983\",DATUM[\"D_North_American_1983\",SPHEROID[\"GRS_1980\",6378137.0,298.257222101]],PRIMEM[\"Greenwich\",0.0],UNIT[\"Degree\",0.0174532925199433]],PROJECTION[\"Lambert_Conformal_Conic\"],PARAMETER[\"False_Easting\",1312333.333333333],PARAMETER[\"False_Northing\",0.0],PARAMETER[\"Central_Meridian\",-77.0],PARAMETER[\"Standard_Parallel_1\",38.3],PARAMETER[\"Standard_Parallel_2\",39.45],PARAMETER[\"Latitude_Of_Origin\",37.66666666666666],UNIT[\"Foot_US\",0.3048006096012192]]"
  }
 },
 "initialExtent": {
  "xmin": 1112810.2455568197,
  "ymin": 564435.8224152116,
  "xmax": 1295692.577545337,
  "ymax": 757275.2615185749,
  "spatialReference": {
   "wkt": "PROJCS[\"NAD_1983_StatePlane_Maryland_FIPS_1900\",GEOGCS[\"GCS_North_American_1983\",DATUM[\"D_North_American_1983\",SPHEROID[\"GRS_1980\",6378137.0,298.257222101]],PRIMEM[\"Greenwich\",0.0],UNIT[\"Degree\",0.0174532925199433]],PROJECTION[\"Lambert_Conformal_Conic\"],PARAMETER[\"False_Easting\",1312333.333333333],PARAMETER[\"False_Northing\",0.0],PARAMETER[\"Central_Meridian\",-77.0],PARAMETER[\"Standard_Parallel_1\",38.3],PARAMETER[\"Standard_Parallel_2\",39.45],PARAMETER[\"Latitude_Of_Origin\",37.66666666666666],UNIT[\"Foot_US\",0.3048006096012192]]"
  }
 },
 "fullExtent": {
  "xmin": 1112810.2455568197,
  "ymin": 564435.8224152116,
  "xmax": 1295692.577545337,
  "ymax": 757275.2615185749,
  "spatialReference": {
   "wkt": "PROJCS[\"NAD_1983_StatePlane_Maryland_FIPS_1900\",GEOGCS[\"GCS_North_American_1983\",DATUM[\"D_North_American_1983\",SPHEROID[\"GRS_1980\",6378137.0,298.257222101]],PRIMEM[\"Greenwich\",0.0],UNIT[\"Degree\",0.0174532925199433]],PROJECTION[\"Lambert_Conformal_Conic\"],PARAMETER[\"False_Easting\",1312333.333333333],PARAMETER[\"False_Northing\",0.0],PARAMETER[\"Central_Meridian\",-77.0],PARAMETER[\"Standard_Parallel_1\",38.3],PARAMETER[\"Standard_Parallel_2\",39.45],PARAMETER[\"Latitude_Of_Origin\",37.66666666666666],UNIT[\"Foot_US\",0.3048006096012192]]"
  }
 },
 "pixelSizeX": 4.157456000102689,
 "pixelSizeY": 4.157455999986274,
 "bandCount": 1,
 "pixelType": "U1",
 "minPixelSize": 0,
 "maxPixelSize": 0,
 "copyrightText": "",
 "serviceDataType": "esriImageServiceDataTypeGeneric",
 "minValues": [
  0
 ],
 "maxValues": [
  0
 ],
 "meanValues": [
  0
 ],
 "stdvValues": [
  0
 ],
 "objectIdField": "",
 "fields": [],
 "capabilities": "Image,Metadata,Mensuration",
 "defaultMosaicMethod": "Center",
 "allowedMosaicMethods": "",
 "sortField": "",
 "sortValue": null,
 "mosaicOperator": "First",
 "defaultCompressionQuality": 75,
 "defaultResamplingMethod": "Bilinear",
 "maxImageHeight": 4100,
 "maxImageWidth": 15000,
 "allowRasterFunction": true,
 "rasterFunctionInfos": [],
 "rasterTypeInfos": [
  {
   "name": "Raster Dataset",
   "description": "Supports all ArcGIS Raster Datasets",
   "help": ""
  }
 ],
 "mensurationCapabilities": "Basic",
 "hasHistograms": true,
 "hasColormap": false,
 "hasRasterAttributeTable": false,
 "minScale": 0,
 "maxScale": 0,
 "exportTilesAllowed": false,
 "hasMultidimensions": false,
 "supportsStatistics": false,
 "supportsAdvancedQueries": false,
 "editFieldsInfo": null,
 "ownershipBasedAccessControlForRasters": null,
 "allowComputeTiePoints": false,
 "useStandardizedQueries": true,
 "advancedQueryCapabilities": {
  "useStandardizedQueries": true,
  "supportsStatistics": false,
  "supportsOrderBy": false,
  "supportsDistinct": false,
  "supportsPagination": false
 },
 "spatialReference": {
  "wkt": "PROJCS[\"NAD_1983_StatePlane_Maryland_FIPS_1900\",GEOGCS[\"GCS_North_American_1983\",DATUM[\"D_North_American_1983\",SPHEROID[\"GRS_1980\",6378137.0,298.257222101]],PRIMEM[\"Greenwich\",0.0],UNIT[\"Degree\",0.0174532925199433]],PROJECTION[\"Lambert_Conformal_Conic\"],PARAMETER[\"False_Easting\",1312333.333333333],PARAMETER[\"False_Northing\",0.0],PARAMETER[\"Central_Meridian\",-77.0],PARAMETER[\"Standard_Parallel_1\",38.3],PARAMETER[\"Standard_Parallel_2\",39.45],PARAMETER[\"Latitude_Of_Origin\",37.66666666666666],UNIT[\"Foot_US\",0.3048006096012192]]"
 }
}
